BEGIN:VCALENDAR
VERSION:2.0
PRODID:-//hacksw/handcal//NONSGML v1.0//EN
BEGIN:VEVENT
SUMMARY:Badges "18m"
UID:79bd31ae-2264-4b8c-aede-c995e46b1b69
DTSTART:20250831T220000Z
DTEND:20250901T220000Z
LOCATION:Localisation   
CATEGORIES:Sportif
STATUS:
URL;VALUE=URI:https://lesarchersdemorieres.sportsregions.fr/evenements/2025/09/01/badges-18m-2424556
END:VEVENT
END:VCALENDAR
