BEGIN:VCALENDAR
VERSION:2.0
PRODID:-//hacksw/handcal//NONSGML v1.0//EN
BEGIN:VEVENT
SUMMARY:Badges "3D"
UID:374ecdee-be89-4c14-abcc-d96e238e215c
DTSTART:20250831T220000Z
DTEND:20250901T220000Z
LOCATION:Localisation   
CATEGORIES:Sportif
STATUS:
URL;VALUE=URI:https://lesarchersdemorieres.sportsregions.fr/evenements/2025/09/01/badges-3d-2424554
END:VEVENT
END:VCALENDAR
