BEGIN:VCALENDAR
VERSION:2.0
PRODID:-//hacksw/handcal//NONSGML v1.0//EN
BEGIN:VEVENT
SUMMARY:Ecussons "national"
UID:7337eaea-b326-447d-b0aa-19f0fd7e4508
DTSTART:20250831T220000Z
DTEND:20250901T220000Z
LOCATION:Localisation   
CATEGORIES:Sportif
STATUS:
URL;VALUE=URI:https://lesarchersdemorieres.sportsregions.fr/evenements/2025/09/01/ecussons-national-2424555
END:VEVENT
END:VCALENDAR
