BEGIN:VCALENDAR
VERSION:2.0
PRODID:-//hacksw/handcal//NONSGML v1.0//EN
BEGIN:VEVENT
SUMMARY:Ecussons "nature"
UID:53f8c068-a733-4d84-8507-e044807d0b40
DTSTART:20250831T220000Z
DTEND:20250901T220000Z
LOCATION:Localisation   
CATEGORIES:Sportif
STATUS:
URL;VALUE=URI:https://lesarchersdemorieres.sportsregions.fr/evenements/2025/09/01/ecussons-nature-2424558
END:VEVENT
END:VCALENDAR
