BEGIN:VCALENDAR
VERSION:2.0
PRODID:-//hacksw/handcal//NONSGML v1.0//EN
BEGIN:VEVENT
SUMMARY:Badges "International"
UID:eeca41b4-4f13-4110-83f1-45582ad9b34d
DTSTART:20250909T220000Z
DTEND:20250910T220000Z
LOCATION:Localisation   
CATEGORIES:Sportif
STATUS:
URL;VALUE=URI:https://lesarchersdemorieres.sportsregions.fr/evenements/2025/09/10/badges-international-2434128
END:VEVENT
END:VCALENDAR
