BEGIN:VCALENDAR
VERSION:2.0
PRODID:-//hacksw/handcal//NONSGML v1.0//EN
BEGIN:VEVENT
SUMMARY:Pas d'entrainement enfants
UID:f2567599-0de0-4170-9970-0ce7d034441f
DTSTART:20260221T090000Z
DTEND:20260221T110000Z
LOCATION:Localisation   
CATEGORIES:Sportif
STATUS:
URL;VALUE=URI:https://lesarchersdemorieres.sportsregions.fr/evenements/2026/02/21/pas-dentrainement-enfants-2423160
END:VEVENT
END:VCALENDAR
