BEGIN:VCALENDAR
VERSION:2.0
PRODID:-//hacksw/handcal//NONSGML v1.0//EN
BEGIN:VEVENT
SUMMARY:Passage Fleches Adultes
UID:deb4f956-a6d9-47e8-9a69-5b085869134d
DTSTART:20260316T170000Z
DTEND:20260316T190000Z
LOCATION:Localisation   
CATEGORIES:Sportif
STATUS:
URL;VALUE=URI:https://lesarchersdemorieres.sportsregions.fr/evenements/2026/03/16/passage-fleches-adultes-2423105
END:VEVENT
END:VCALENDAR
