BEGIN:VCALENDAR
VERSION:2.0
PRODID:-//hacksw/handcal//NONSGML v1.0//EN
BEGIN:VEVENT
SUMMARY:Passage Fleches Enfants
UID:c7e3a954-a5ec-4c9d-b1ab-b75745f741fe
DTSTART:20260321T090000Z
DTEND:20260321T110000Z
LOCATION:Localisation   
CATEGORIES:Sportif
STATUS:
URL;VALUE=URI:https://lesarchersdemorieres.sportsregions.fr/evenements/2026/03/21/passage-fleches-enfants-2423106
END:VEVENT
END:VCALENDAR
