BEGIN:VCALENDAR
VERSION:2.0
PRODID:-//hacksw/handcal//NONSGML v1.0//EN
BEGIN:VEVENT
SUMMARY:Mandat Bollene "Nature" 12/04/26
UID:c5b0644e-ddef-4d81-8048-2754148de6c7
DTSTART:20260411T220000Z
DTEND:20260412T220000Z
LOCATION:Localisation   
CATEGORIES:Sportif
STATUS:
URL;VALUE=URI:https://lesarchersdemorieres.sportsregions.fr/evenements/2026/04/12/mandat-bollene-nature-120426-2439096
END:VEVENT
END:VCALENDAR
