BEGIN:VCALENDAR
VERSION:2.0
PRODID:-//hacksw/handcal//NONSGML v1.0//EN
BEGIN:VEVENT
SUMMARY:Entrainement Annule (Vacances Scolaires)
UID:6a056d37-2042-4364-9eda-b399850027a9
DTSTART:20260418T080000Z
DTEND:20260418T100000Z
LOCATION:Localisation   
CATEGORIES:Sportif
STATUS:
URL;VALUE=URI:https://lesarchersdemorieres.sportsregions.fr/evenements/2026/04/18/entrainement-annule-vacances-scolaires-2434995
END:VEVENT
END:VCALENDAR
