BEGIN:VCALENDAR
VERSION:2.0
PRODID:-//hacksw/handcal//NONSGML v1.0//EN
BEGIN:VEVENT
SUMMARY:Mandat Monteux Exterieur
UID:ce28d74c-344f-4ee2-89db-c041384ac8e1
DTSTART:20260509T063000Z
DTEND:20260510T113000Z
LOCATION:Localisation   
CATEGORIES:Sportif
STATUS:
URL;VALUE=URI:https://lesarchersdemorieres.sportsregions.fr/evenements/2026/05/09/mandat-monteux-exterieur-2435005
END:VEVENT
END:VCALENDAR
