BEGIN:VCALENDAR
VERSION:2.0
PRODID:-//hacksw/handcal//NONSGML v1.0//EN
BEGIN:VEVENT
SUMMARY:Mandat Robion Decouverte Parcours
UID:39030cd1-f3ec-4f38-9cc9-e5fa6a94e267
DTSTART:20260530T103000Z
DTEND:20260530T220000Z
LOCATION:Localisation   
CATEGORIES:Sportif
STATUS:
URL;VALUE=URI:https://lesarchersdemorieres.sportsregions.fr/evenements/2026/05/30/mandat-robion-decouverte-parcours-2435007
END:VEVENT
END:VCALENDAR
